BEGIN:VCALENDAR
VERSION:2.0
PRODID:-//Tukios.com/
BEGIN:VEVENT
UID:7dd4d8f4-5f25-4f8b-bbd9-5b4d27cdf508@obituaries.elsenorialmemorialpark.com
DTSTAMP:20260419T194820Z
DTSTART:20260420T173000Z
DTEND:20260420T230000Z
SUMMARY:Funeral Service
DESCRIPTION:
URL:https://obituaries.elsenorialmemorialpark.com/obituaries/angelina-pastrana-sanchez
LOCATION: Carr. 176 Km. 6.2  San Juan PR 00926
GEO:18.3628055;-66.0543337
END:VEVENT
END:VCALENDAR