BEGIN:VCALENDAR
VERSION:2.0
PRODID:-//Tukios.com/
BEGIN:VEVENT
UID:8fca7ac0-d70a-4e6f-a2e5-834d354e1c06@obituaries.elsenorialmemorialpark.com
DTSTAMP:20260419T194741Z
DTSTART:20260421T110000Z
DTEND:20260421T170000Z
SUMMARY:Funeral Service
DESCRIPTION:
URL:https://obituaries.elsenorialmemorialpark.com/obituaries/angelina-pastrana-sanchez
LOCATION: Carr. 176 Km. 6.2  San Juan PR 00926
GEO:18.3628055;-66.0543337
END:VEVENT
END:VCALENDAR