BEGIN:VCALENDAR
VERSION:2.0
PRODID:-//Tukios.com/
BEGIN:VEVENT
UID:bf68c851-39df-4d53-b034-c2297b3d3bbb@obituaries.elsenorialmemorialpark.com
DTSTAMP:20260419T194351Z
DTSTART:20260421T171500Z
DTEND:20260421T181500Z
SUMMARY:Burial
DESCRIPTION:
URL:https://obituaries.elsenorialmemorialpark.com/obituaries/angelina-pastrana-sanchez
LOCATION: Carr. 176 Km. 6.2  San Juan PR 00926
GEO:18.3628055;-66.0543337
END:VEVENT
END:VCALENDAR